BEGIN:VCALENDAR
VERSION:2.0
PRODID:-//Plone.org//NONSGML plone.app.event//EN
X-WR-TIMEZONE:Europe/Madrid
BEGIN:VEVENT
SUMMARY:Passejada pel Parc. Enodescoberta de la Serralada Litoral d'Alella
DTSTART;TZID=Europe/Madrid;VALUE=DATE-TIME:20180916T100000
DTEND;TZID=Europe/Madrid;VALUE=DATE-TIME:20180916T110000
DTSTAMP;VALUE=DATE-TIME:20260426T010543Z
UID:12c73f4a8264467d8f3cae5261f5a651
CREATED;VALUE=DATE-TIME:20180916T000000Z
CATEGORIES:
LOCATION:Carrers Vallespir i La Selva
ORGANIZER:Consorci del Parc de la Serralada Litoral
URL:https://www.mynerva.net/ajalella/document.php?id=10069
END:VEVENT
END:VCALENDAR