BEGIN:VCALENDAR
VERSION:2.0
PRODID:-//Plone.org//NONSGML plone.app.event//EN
X-WR-TIMEZONE:Europe/Madrid
BEGIN:VEVENT
SUMMARY:Passejada pel Parc. Plantes aromàtiques i medicinals
DTSTART;TZID=Europe/Madrid;VALUE=DATE-TIME:20180922T100000
DTEND;TZID=Europe/Madrid;VALUE=DATE-TIME:20180922T110000
DTSTAMP;VALUE=DATE-TIME:20260426T005147Z
UID:068bc116dd4e1fd1b67a23e67b78602d
CREATED;VALUE=DATE-TIME:20180922T000000Z
CATEGORIES:
LOCATION:Ajuntament d'Òrrius
ORGANIZER:Consorci del Parc de la Serralada Litoral
URL:https://www.mynerva.net/ajalella/document.php?id=10073
END:VEVENT
END:VCALENDAR