BEGIN:VCALENDAR
VERSION:2.0
PRODID:-//Plone.org//NONSGML plone.app.event//EN
X-WR-TIMEZONE:Europe/Madrid
BEGIN:VEVENT
SUMMARY:Festa de la Verema. Acte d'inauguració
DTSTART;TZID=Europe/Madrid;VALUE=DATE-TIME:20180906T193000
DTEND;TZID=Europe/Madrid;VALUE=DATE-TIME:20180906T203000
DTSTAMP;VALUE=DATE-TIME:20260426T003053Z
UID:a115db1c7ec64474529d8e690fcbe219
CREATED;VALUE=DATE-TIME:20180906T000000Z
CATEGORIES:
LOCATION:Plaça de l'Ajuntament - Plaça de l'Ajuntament, s/n. 08328 Alella
ORGANIZER:Ajuntament d'Alella
URL:https://www.mynerva.net/ajalella/document.php?id=10099
END:VEVENT
END:VCALENDAR