BEGIN:VCALENDAR
VERSION:2.0
PRODID:-//Plone.org//NONSGML plone.app.event//EN
X-WR-TIMEZONE:Europe/Madrid
BEGIN:VEVENT
SUMMARY:Festa de la Verema. Inauguració de l'exposició "Vinyes revelades"
DTSTART;TZID=Europe/Madrid;VALUE=DATE-TIME:20180907T200000
DTEND;TZID=Europe/Madrid;VALUE=DATE-TIME:20180907T210000
DTSTAMP;VALUE=DATE-TIME:20260426T003205Z
UID:4b9490f01fd46c3840d8e42c5af4f49c
CREATED;VALUE=DATE-TIME:20180907T000000Z
CATEGORIES:
LOCATION:Can Manyé. Espai d'art i creació
ORGANIZER:Ajuntament d'Alella
URL:https://www.mynerva.net/ajalella/document.php?id=10104
END:VEVENT
END:VCALENDAR