BEGIN:VCALENDAR
VERSION:2.0
PRODID:-//Plone.org//NONSGML plone.app.event//EN
X-WR-TIMEZONE:Europe/Madrid
BEGIN:VEVENT
SUMMARY:Festa de la Verema. Visites guiades als cellers
DTSTART;TZID=Europe/Madrid;VALUE=DATE-TIME:20180908T091500
DTEND;TZID=Europe/Madrid;VALUE=DATE-TIME:20180908T101500
DTSTAMP;VALUE=DATE-TIME:20260426T004127Z
UID:1c2d4eb789aa1acf70591c6ec104f6a3
CREATED;VALUE=DATE-TIME:20180908T000000Z
CATEGORIES:
LOCATION:Oficina de Turisme
ORGANIZER:Ajuntament d'Alella
COMMENT:Durada: De 9 a 23h
URL:https://www.mynerva.net/ajalella/document.php?id=10108
END:VEVENT
END:VCALENDAR