BEGIN:VCALENDAR
VERSION:2.0
PRODID:-//Plone.org//NONSGML plone.app.event//EN
X-WR-TIMEZONE:Europe/Madrid
BEGIN:VEVENT
SUMMARY:Festa de la Verema. Tapes i vi
DTSTART;TZID=Europe/Madrid;VALUE=DATE-TIME:20180908T100000
DTEND;TZID=Europe/Madrid;VALUE=DATE-TIME:20180908T110000
DTSTAMP;VALUE=DATE-TIME:20260426T003204Z
UID:29e26a5a7a75effe9f3514a401d861f1
CREATED;VALUE=DATE-TIME:20180908T000000Z
CATEGORIES:
LOCATION:Bars i restaurants del poble
ORGANIZER:Ajuntament d'Alella
COMMENT:Durada: De 9 a 23h
URL:https://www.mynerva.net/ajalella/document.php?id=10109
END:VEVENT
END:VCALENDAR