BEGIN:VCALENDAR
VERSION:2.0
PRODID:-//Plone.org//NONSGML plone.app.event//EN
X-WR-TIMEZONE:Europe/Madrid
BEGIN:VEVENT
SUMMARY:Festa de la Verema. Mostra del Vi DO Alella i Gastronomia
DTSTART;TZID=Europe/Madrid;VALUE=DATE-TIME:20180908T200000
DTEND;TZID=Europe/Madrid;VALUE=DATE-TIME:20180908T210000
DTSTAMP;VALUE=DATE-TIME:20260426T003237Z
UID:218c2e55b034450c3081916d2c09cea8
CREATED;VALUE=DATE-TIME:20180908T000000Z
CATEGORIES:
LOCATION:Hort de la Rectoria i Plaça de l'Ajuntament
ORGANIZER:Ajuntament d'Alella
COMMENT:Durada: De 20 a 23h
URL:https://www.mynerva.net/ajalella/document.php?id=10114
END:VEVENT
END:VCALENDAR