BEGIN:VCALENDAR
VERSION:2.0
PRODID:-//Plone.org//NONSGML plone.app.event//EN
X-WR-TIMEZONE:Europe/Madrid
BEGIN:VEVENT
SUMMARY:Festa de la Verema. Visites guiades als cellers
DTSTART;TZID=Europe/Madrid;VALUE=DATE-TIME:20180909T091500
DTEND;TZID=Europe/Madrid;VALUE=DATE-TIME:20180909T101500
DTSTAMP;VALUE=DATE-TIME:20260426T003402Z
UID:2b18468b0247e055695a4010b7684b3f
CREATED;VALUE=DATE-TIME:20180909T000000Z
CATEGORIES:
LOCATION:Oficina de Turisme
ORGANIZER:Ajuntament d'Alella
COMMENT:Durada: De 9 a 23h
URL:https://www.mynerva.net/ajalella/document.php?id=10116
END:VEVENT
END:VCALENDAR