BEGIN:VCALENDAR
VERSION:2.0
PRODID:-//Plone.org//NONSGML plone.app.event//EN
X-WR-TIMEZONE:Europe/Madrid
BEGIN:VEVENT
SUMMARY:Festa de la Verema. Caminada guiada: vins d'autor a Rials
DTSTART;TZID=Europe/Madrid;VALUE=DATE-TIME:20180909T100000
DTEND;TZID=Europe/Madrid;VALUE=DATE-TIME:20180909T110000
DTSTAMP;VALUE=DATE-TIME:20260426T004240Z
UID:07d5be3eb5e913065d87f165ea8dc699
CREATED;VALUE=DATE-TIME:20180909T000000Z
CATEGORIES:
LOCATION:Oficina de Turisme
ORGANIZER:Ajuntament d'Alella
DESCRIPTION:ENTRADES EXHAURIDES
URL:https://www.mynerva.net/ajalella/document.php?id=10118
END:VEVENT
END:VCALENDAR