BEGIN:VCALENDAR
VERSION:2.0
PRODID:-//Plone.org//NONSGML plone.app.event//EN
X-WR-TIMEZONE:Europe/Madrid
BEGIN:VEVENT
SUMMARY:Festa de la Verema. Presentació de vins
DTSTART;TZID=Europe/Madrid;VALUE=DATE-TIME:20180908T180000
DTEND;TZID=Europe/Madrid;VALUE=DATE-TIME:20180908T190000
DTSTAMP;VALUE=DATE-TIME:20260426T003345Z
UID:10bb5dfe3bdd297fe62fe920e1c82492
CREATED;VALUE=DATE-TIME:20180908T000000Z
CATEGORIES:
LOCATION:Centre Cultural de Can Lleonart - Plaça dels Germans Lleonart, 1 08328 Alella
ORGANIZER:Ajuntament d'Alella
DESCRIPTION:ENTRADES EXHAURIDES
URL:https://www.mynerva.net/ajalella/document.php?id=10119
END:VEVENT
END:VCALENDAR