BEGIN:VCALENDAR
VERSION:2.0
PRODID:-//Plone.org//NONSGML plone.app.event//EN
X-WR-TIMEZONE:Europe/Madrid
BEGIN:VEVENT
SUMMARY:Festa Verema. Tast Jove de vins DO Alella
DTSTART;TZID=Europe/Madrid;VALUE=DATE-TIME:20180908T223000
DTEND;TZID=Europe/Madrid;VALUE=DATE-TIME:20180908T233000
DTSTAMP;VALUE=DATE-TIME:20260426T004351Z
UID:d31aea88b0a2afb9b5e420460e221ab3
CREATED;VALUE=DATE-TIME:20180908T000000Z
CATEGORIES:
LOCATION:Centre Cultural de Can Lleonart
ORGANIZER:Ajuntament d'Alella
URL:https://www.mynerva.net/ajalella/document.php?id=10122
END:VEVENT
END:VCALENDAR