BEGIN:VCALENDAR
VERSION:2.0
PRODID:-//Plone.org//NONSGML plone.app.event//EN
X-WR-TIMEZONE:Europe/Madrid
BEGIN:VEVENT
SUMMARY:Festa Verema. Tast amb personalitat. Oriol Artigas i Isma Prados. Tast a 4 mans
DTSTART;TZID=Europe/Madrid;VALUE=DATE-TIME:20180912T200000
DTEND;TZID=Europe/Madrid;VALUE=DATE-TIME:20180912T210000
DTSTAMP;VALUE=DATE-TIME:20260426T003344Z
UID:1eb2666734b7ea2325049a9cf0d5cfca
CREATED;VALUE=DATE-TIME:20180912T000000Z
CATEGORIES:
LOCATION:Can Lleonart
ORGANIZER:Ajuntament d'Alella
DESCRIPTION:ENTRADES EXHAURIDES
URL:https://www.mynerva.net/ajalella/document.php?id=10139
END:VEVENT
END:VCALENDAR