BEGIN:VCALENDAR
VERSION:2.0
PRODID:-//Plone.org//NONSGML plone.app.event//EN
X-WR-TIMEZONE:Europe/Madrid
BEGIN:VEVENT
SUMMARY:Festa Verema. Tast amb personalitat. Laura Masramon. Vins i formatges catalans
DTSTART;TZID=Europe/Madrid;VALUE=DATE-TIME:20180913T200000
DTEND;TZID=Europe/Madrid;VALUE=DATE-TIME:20180913T210000
DTSTAMP;VALUE=DATE-TIME:20260426T004229Z
UID:9bf3929c05b1b8e2f2f1254024940339
CREATED;VALUE=DATE-TIME:20180913T000000Z
CATEGORIES:
LOCATION:Can Lleonart
ORGANIZER:Ajuntament d'Alella
DESCRIPTION:ENTRADES EXHAURIDES
URL:https://www.mynerva.net/ajalella/document.php?id=10140
END:VEVENT
END:VCALENDAR