BEGIN:VCALENDAR
VERSION:2.0
PRODID:-//Plone.org//NONSGML plone.app.event//EN
X-WR-TIMEZONE:Europe/Madrid
BEGIN:VEVENT
SUMMARY:Festa Verema. Verema nocturna
DTSTART;TZID=Europe/Madrid;VALUE=DATE-TIME:20180916T050000
DTEND;TZID=Europe/Madrid;VALUE=DATE-TIME:20180916T060000
DTSTAMP;VALUE=DATE-TIME:20260426T004134Z
UID:225989d924006771e653eaf1c5b5bc12
CREATED;VALUE=DATE-TIME:20180916T000000Z
CATEGORIES:
LOCATION:Vinya testimonial de Can Magarola
ORGANIZER:Ajuntament d'Alella
DESCRIPTION:ENTRADES EXHAURIDES
URL:https://www.mynerva.net/ajalella/document.php?id=10142
END:VEVENT
END:VCALENDAR