BEGIN:VCALENDAR
VERSION:2.0
PRODID:-//Plone.org//NONSGML plone.app.event//EN
X-WR-TIMEZONE:Europe/Madrid
BEGIN:VEVENT
SUMMARY:Passejada pel Parc de la Serralada Litoral: Plantes remeieres a la tardor
DTSTART;TZID=Europe/Madrid;VALUE=DATE-TIME:20181007T100000
DTEND;TZID=Europe/Madrid;VALUE=DATE-TIME:20181007T110000
DTSTAMP;VALUE=DATE-TIME:20260425T230735Z
UID:31769159802233912183043cfeb02560
CREATED;VALUE=DATE-TIME:20181007T000000Z
CATEGORIES:
LOCATION:Oficina de Turisme - Riera Fosca 2. 08328 Alella
ORGANIZER:Ajuntament d'Alella
URL:https://www.mynerva.net/ajalella/document.php?id=10213
END:VEVENT
END:VCALENDAR