BEGIN:VCALENDAR
VERSION:2.0
PRODID:-//Plone.org//NONSGML plone.app.event//EN
X-WR-TIMEZONE:Europe/Madrid
BEGIN:VEVENT
SUMMARY:Passejada pel Parc de la Serralada Litoral. Font a font, sentit a sentit. Itinerari sensorial per Argentona
DTSTART;TZID=Europe/Madrid;VALUE=DATE-TIME:20181007T100000
DTEND;TZID=Europe/Madrid;VALUE=DATE-TIME:20181007T110000
DTSTAMP;VALUE=DATE-TIME:20260425T232020Z
UID:d4a003d1fb846c61e0b569316ac5b8e5
CREATED;VALUE=DATE-TIME:20181007T000000Z
CATEGORIES:
LOCATION:Font Picant (Argentona)
ORGANIZER:Ajuntament d'Alella
URL:https://www.mynerva.net/ajalella/document.php?id=10214
END:VEVENT
END:VCALENDAR