BEGIN:VCALENDAR
VERSION:2.0
PRODID:-//Plone.org//NONSGML plone.app.event//EN
X-WR-TIMEZONE:Europe/Madrid
BEGIN:VEVENT
SUMMARY:Enotast. Preparem la Castanyada
DTSTART;TZID=Europe/Madrid;VALUE=DATE-TIME:20181020T130000
DTEND;TZID=Europe/Madrid;VALUE=DATE-TIME:20181020T140000
DTSTAMP;VALUE=DATE-TIME:20260426T003232Z
UID:ed3c678f60d9f15ca9f93bd83d2f9019
CREATED;VALUE=DATE-TIME:20181020T000000Z
CATEGORIES:
LOCATION:Oficina de Turisme - Riera Fosca 2. 08328 Alella
ORGANIZER:Ajuntament d'Alella
URL:https://www.mynerva.net/ajalella/document.php?id=10221
END:VEVENT
END:VCALENDAR