BEGIN:VCALENDAR
VERSION:2.0
PRODID:-//Plone.org//NONSGML plone.app.event//EN
X-WR-TIMEZONE:Europe/Madrid
BEGIN:VEVENT
SUMMARY:Literatures amb sentits. L'autor de Zuric, 1917, Lenin, Joyce, Tzara
DTSTART;TZID=Europe/Madrid;VALUE=DATE-TIME:20181030T193000
DTEND;TZID=Europe/Madrid;VALUE=DATE-TIME:20181030T203000
DTSTAMP;VALUE=DATE-TIME:20260425T230700Z
UID:e15328314aa554f6a852045108c720f9
CREATED;VALUE=DATE-TIME:20181030T000000Z
CATEGORIES:
LOCATION:Can Manyé. Espai d'art i creació - Riera Coma Fosca 42. 08328 Alella
URL:https://www.mynerva.net/ajalella/document.php?id=10239
END:VEVENT
END:VCALENDAR