BEGIN:VCALENDAR
VERSION:2.0
PRODID:-//Plone.org//NONSGML plone.app.event//EN
X-WR-TIMEZONE:Europe/Madrid
BEGIN:VEVENT
SUMMARY:Vi+, el mes de la DO Alella
DTSTART;TZID=Europe/Madrid;VALUE=DATE-TIME:20181101T000000
DTEND;TZID=Europe/Madrid;VALUE=DATE-TIME:20181101T010000
DTSTAMP;VALUE=DATE-TIME:20260425T214640Z
UID:bb92b56e954f7094dd5561746cf5f122
CREATED;VALUE=DATE-TIME:20180929T000000Z
CATEGORIES:
LOCATION:Diferents municipis
COMMENT:Durada: Del 29 de setembre a l'1 de novembre
URL:https://www.mynerva.net/ajalella/document.php?id=10241
END:VEVENT
END:VCALENDAR