BEGIN:VCALENDAR
VERSION:2.0
PRODID:-//Plone.org//NONSGML plone.app.event//EN
X-WR-TIMEZONE:Europe/Madrid
BEGIN:VEVENT
SUMMARY:Vi+, el mes de la DO Alella. Maridatge a glops amb tapes de la vermuteria Xavi Estrany i el sommelier Joan Lluís Gómez
DTSTART;TZID=Europe/Madrid;VALUE=DATE-TIME:20181029T190000
DTEND;TZID=Europe/Madrid;VALUE=DATE-TIME:20181029T200000
DTSTAMP;VALUE=DATE-TIME:20260425T225936Z
UID:628fe473ac758f99124abfef15f344e5
CREATED;VALUE=DATE-TIME:20181029T000000Z
CATEGORIES:
LOCATION:Can Manyé. Espai d'art i creació - Riera Coma Fosca 42. 08328 Alella
ORGANIZER:Consorci de Promoció Enoturística del Territori DO Alella
URL:https://www.mynerva.net/ajalella/document.php?id=10318
END:VEVENT
END:VCALENDAR