BEGIN:VCALENDAR
VERSION:2.0
PRODID:-//Plone.org//NONSGML plone.app.event//EN
X-WR-TIMEZONE:Europe/Madrid
BEGIN:VEVENT
SUMMARY:Tast de pernil
DTSTART;TZID=Europe/Madrid;VALUE=DATE-TIME:20181129T190000
DTEND;TZID=Europe/Madrid;VALUE=DATE-TIME:20181129T200000
DTSTAMP;VALUE=DATE-TIME:20260425T201659Z
UID:07189866e4b56c10ae0d4b990a1f8212
CREATED;VALUE=DATE-TIME:20181129T000000Z
CATEGORIES:
LOCATION:Centre Cultural de Can Lleonart - Plaça dels Germans Lleonart, 1 08328 Alella
ORGANIZER:Ajuntament d'Alella
URL:https://www.mynerva.net/ajalella/document.php?id=10378
END:VEVENT
END:VCALENDAR