BEGIN:VCALENDAR
VERSION:2.0
PRODID:-//Plone.org//NONSGML plone.app.event//EN
X-WR-TIMEZONE:Europe/Madrid
BEGIN:VEVENT
SUMMARY:Fira de Nadal amb La Marató. Enotast nadalenc
DTSTART;TZID=Europe/Madrid;VALUE=DATE-TIME:20181215T130000
DTEND;TZID=Europe/Madrid;VALUE=DATE-TIME:20181215T140000
DTSTAMP;VALUE=DATE-TIME:20260425T190353Z
UID:70e7ad029ec5fd2a8f3e141ffdc72962
CREATED;VALUE=DATE-TIME:20181215T000000Z
CATEGORIES:Festes i fires
LOCATION:Oficina de Turisme
ORGANIZER:Ajuntament d'Alella
URL:https://www.mynerva.net/ajalella/document.php?id=10505
END:VEVENT
END:VCALENDAR