BEGIN:VCALENDAR
VERSION:2.0
PRODID:-//Plone.org//NONSGML plone.app.event//EN
X-WR-TIMEZONE:Europe/Madrid
BEGIN:VEVENT
SUMMARY:Itinerari guiat. El Modernisme a Alella + copa de vi DO Alella
DTSTART;TZID=Europe/Madrid;VALUE=DATE-TIME:20191110T100000
DTEND;TZID=Europe/Madrid;VALUE=DATE-TIME:20191110T110000
DTSTAMP;VALUE=DATE-TIME:20260425T054514Z
UID:cfae72c7fab08959f29f58582320b1ae
CREATED;VALUE=DATE-TIME:20191110T000000Z
CATEGORIES:Sortides,Vi i gastronomia
LOCATION:Oficina de Turisme - Riera Fosca 2. 08328 Alella
ORGANIZER:Ajuntament d'Alella
COMMENT:Preu: 5 euros
URL:https://www.mynerva.net/ajalella/document.php?id=11248
END:VEVENT
END:VCALENDAR