BEGIN:VCALENDAR
VERSION:2.0
PRODID:-//Plone.org//NONSGML plone.app.event//EN
X-WR-TIMEZONE:Europe/Madrid
BEGIN:VEVENT
SUMMARY:Diumenges de vins. Vins clàssics amb conserves artesanals de Km0
DTSTART;TZID=Europe/Madrid;VALUE=DATE-TIME:20191027T120000
DTEND;TZID=Europe/Madrid;VALUE=DATE-TIME:20191027T130000
DTSTAMP;VALUE=DATE-TIME:20260425T060152Z
UID:99ddc6a1a0cf7313c5e50e2309771c2a
CREATED;VALUE=DATE-TIME:20191027T000000Z
CATEGORIES:Vi i gastronomia
LOCATION:Oficina de Turisme - Riera Fosca 2. 08328 Alella
ORGANIZER:Ajuntament d'Alella
COMMENT:Preu: 8 euros
URL:https://www.mynerva.net/ajalella/document.php?id=11301
END:VEVENT
END:VCALENDAR