BEGIN:VCALENDAR
VERSION:2.0
PRODID:-//Plone.org//NONSGML plone.app.event//EN
X-WR-TIMEZONE:Europe/Madrid
BEGIN:VEVENT
SUMMARY:Diumenges de most. Fem art amb la vinya
DTSTART;TZID=Europe/Madrid;VALUE=DATE-TIME:20191027T120000
DTEND;TZID=Europe/Madrid;VALUE=DATE-TIME:20191027T130000
DTSTAMP;VALUE=DATE-TIME:20260425T055322Z
UID:e1e572a1f436b6b71425bb83389f682b
CREATED;VALUE=DATE-TIME:20191027T000000Z
CATEGORIES:Vi i gastronomia
LOCATION:Oficina de Turisme - Riera Fosca 2. 08328 Alella
ORGANIZER:Ajuntament d'Alella
COMMENT:Preu: 4 euros
URL:https://www.mynerva.net/ajalella/document.php?id=11302
END:VEVENT
END:VCALENDAR