BEGIN:VCALENDAR
VERSION:2.0
PRODID:-//Plone.org//NONSGML plone.app.event//EN
X-WR-TIMEZONE:Europe/Madrid
BEGIN:VEVENT
SUMMARY:Rock & Wine
DTSTART;TZID=Europe/Madrid;VALUE=DATE-TIME:20191102T200000
DTEND;TZID=Europe/Madrid;VALUE=DATE-TIME:20191102T210000
DTSTAMP;VALUE=DATE-TIME:20260425T060131Z
UID:51046eb9ef5477aea866068c7324c0f4
CREATED;VALUE=DATE-TIME:20191102T000000Z
CATEGORIES:Música,Vi i gastronomia
LOCATION:Masia de Can Magarola - Avda. Sant Mateu, 2. 08328 Alella
ORGANIZER:Ajuntament d'Alella
URL:https://www.mynerva.net/ajalella/document.php?id=11525
END:VEVENT
END:VCALENDAR