BEGIN:VCALENDAR
VERSION:2.0
PRODID:-//Plone.org//NONSGML plone.app.event//EN
X-WR-TIMEZONE:Europe/Madrid
BEGIN:VEVENT
SUMMARY:Club de lectura
DTSTART;TZID=Europe/Madrid;VALUE=DATE-TIME:20191107T200000
DTEND;TZID=Europe/Madrid;VALUE=DATE-TIME:20191107T210000
DTSTAMP;VALUE=DATE-TIME:20260425T122559Z
UID:4468ad1489a48751a79de9a48c12e4ae
CREATED;VALUE=DATE-TIME:20191107T000000Z
CATEGORIES:Literatura
LOCATION:Biblioteca Municipal Ferrer i Guàrdia - Hort de la Rectoria. 08328 Alella
ORGANIZER:Ajuntament d'Alella
COMMENT:Preu: Gratuït
DESCRIPTION:La mort lenta, amb la presència de l'autor
URL:https://www.mynerva.net/ajalella/document.php?id=11707
END:VEVENT
END:VCALENDAR