BEGIN:VCALENDAR
VERSION:2.0
PRODID:-//Plone.org//NONSGML plone.app.event//EN
X-WR-TIMEZONE:Europe/Madrid
BEGIN:VEVENT
SUMMARY:Tertúlia "Trepitjant Mèxic, càmera en mà"
DTSTART;TZID=Europe/Madrid;VALUE=DATE-TIME:20191020T180000
DTEND;TZID=Europe/Madrid;VALUE=DATE-TIME:20191020T190000
DTSTAMP;VALUE=DATE-TIME:20260425T125105Z
UID:93d66a10ff0eb70ad72ab75d484e923a
CREATED;VALUE=DATE-TIME:20191020T000000Z
CATEGORIES:Tertúlies,Jornades
LOCATION:Centre Cultural de Can Lleonart - Plaça dels Germans Lleonart, 1 08328 Alella
ORGANIZER:Comissió de Cooperació Internacional
COMMENT:Preu: Gratuït
DESCRIPTION:Jornades de Cooperació Mirades al món "Accés a l'aigua: dret humà en perill!"
URL:https://www.mynerva.net/ajalella/document.php?id=11711
END:VEVENT
END:VCALENDAR