BEGIN:VCALENDAR
VERSION:2.0
PRODID:-//Plone.org//NONSGML plone.app.event//EN
X-WR-TIMEZONE:Europe/Madrid
BEGIN:VEVENT
SUMMARY:Inauguració exposició "Perquè has vingut" de Tura Sanglas
DTSTART;TZID=Europe/Madrid;VALUE=DATE-TIME:20191108T200000
DTEND;TZID=Europe/Madrid;VALUE=DATE-TIME:20191108T210000
DTSTAMP;VALUE=DATE-TIME:20260425T122344Z
UID:5c895da1e3b58e36b5ee80345c82efc8
CREATED;VALUE=DATE-TIME:20191108T000000Z
CATEGORIES:Exposició
LOCATION:Can Manyé. Espai d'art i creació - Riera Coma Fosca 42. 08328 Alella
ORGANIZER:Ajuntament d'Alella
COMMENT:Preu: Activitat gratuïta
Durada: Del 8 de novembre al 15 de desembre
URL:https://www.mynerva.net/ajalella/document.php?id=11758
END:VEVENT
END:VCALENDAR