BEGIN:VCALENDAR
VERSION:2.0
PRODID:-//Plone.org//NONSGML plone.app.event//EN
X-WR-TIMEZONE:Europe/Madrid
BEGIN:VEVENT
SUMMARY:Tertúlia. La nova cuina d'abans
DTSTART;TZID=Europe/Madrid;VALUE=DATE-TIME:20191024T190000
DTEND;TZID=Europe/Madrid;VALUE=DATE-TIME:20191024T200000
DTSTAMP;VALUE=DATE-TIME:20260425T183247Z
UID:b239feb938af42de4a17625df72dab3b
CREATED;VALUE=DATE-TIME:20191024T000000Z
CATEGORIES:Tertúlies
LOCATION:Centre Cultural de Can Lleonart - Plaça dels Germans Lleonart, 1 08328 Alella
ORGANIZER:Ajuntament d'Alella
COMMENT:Preu: Gratuït. Cal recollir l'entrada a partir del 10 d'octubre
Durada: 2h
DESCRIPTION:A càrrec d'Ada Parellada
URL:https://www.mynerva.net/ajalella/document.php?id=11777
END:VEVENT
END:VCALENDAR