BEGIN:VCALENDAR
VERSION:2.0
PRODID:-//Plone.org//NONSGML plone.app.event//EN
X-WR-TIMEZONE:Europe/Madrid
BEGIN:VEVENT
SUMMARY:SORTIDA: En bicicleta per la via verda d'Ogassa - St Joan de les Abadesses - Ripoll
DTSTART;TZID=Europe/Madrid;VALUE=DATE-TIME:20191023T073000
DTEND;TZID=Europe/Madrid;VALUE=DATE-TIME:20191023T083000
DTSTAMP;VALUE=DATE-TIME:20260425T155757Z
UID:5f2d7ba9da11bfeb58cdde6d96253622
CREATED;VALUE=DATE-TIME:20191023T000000Z
CATEGORIES:Sortides
LOCATION:Parada de bus de Can Lleonart
ORGANIZER:Ajuntament d'Alella
COMMENT:Preu: 35 euros
Durada: de 7.30 a 19h aproximadament
URL:https://www.mynerva.net/ajalella/document.php?id=11785
END:VEVENT
END:VCALENDAR