BEGIN:VCALENDAR
VERSION:2.0
PRODID:-//Plone.org//NONSGML plone.app.event//EN
X-WR-TIMEZONE:Europe/Madrid
BEGIN:VEVENT
SUMMARY:Cicle d'alimentació. Cuinem i mengem entre llibres
DTSTART;TZID=Europe/Madrid;VALUE=DATE-TIME:20191029T170000
DTEND;TZID=Europe/Madrid;VALUE=DATE-TIME:20191029T180000
DTSTAMP;VALUE=DATE-TIME:20260425T211927Z
UID:87e612fea73bf81146fa317c5366f400
CREATED;VALUE=DATE-TIME:20191029T000000Z
CATEGORIES:Literatura,Familiars
LOCATION:Biblioteca Municipal Ferrer i Guàrdia - Hort de la Rectoria. 08328 Alella
ORGANIZER:Ajuntament d'Alella
COMMENT:Preu: Gratuït
DESCRIPTION:Hora del conte - Pum! Contes d'una bruixa llaminera
URL:https://www.mynerva.net/ajalella/document.php?id=11794
END:VEVENT
END:VCALENDAR