BEGIN:VCALENDAR
VERSION:2.0
PRODID:-//Plone.org//NONSGML plone.app.event//EN
X-WR-TIMEZONE:Europe/Madrid
BEGIN:VEVENT
SUMMARY:Sortida al Raval Medieval
DTSTART;TZID=Europe/Madrid;VALUE=DATE-TIME:20191106T093000
DTEND;TZID=Europe/Madrid;VALUE=DATE-TIME:20191106T103000
DTSTAMP;VALUE=DATE-TIME:20260425T122447Z
UID:c5c3d47312101a7f09b5995a8086b7bb
CREATED;VALUE=DATE-TIME:20191106T000000Z
CATEGORIES:Sortides
LOCATION:Parada de bus de Can Lleonart
ORGANIZER:Ajuntament d'Alella
COMMENT:Preu: 15 euros
Durada: de 9.30h a 14h aproximadament
DESCRIPTION:PLACES EXHAURIDES
URL:https://www.mynerva.net/ajalella/document.php?id=11795
END:VEVENT
END:VCALENDAR