BEGIN:VCALENDAR
VERSION:2.0
PRODID:-//Plone.org//NONSGML plone.app.event//EN
X-WR-TIMEZONE:Europe/Madrid
BEGIN:VEVENT
SUMMARY:Cicle d'alimentació. Cuinem i mengem entre llibres
DTSTART;TZID=Europe/Madrid;VALUE=DATE-TIME:20191025T170000
DTEND;TZID=Europe/Madrid;VALUE=DATE-TIME:20191025T180000
DTSTAMP;VALUE=DATE-TIME:20260425T190521Z
UID:b84d6644dea4fa2d5327cd5feded4097
CREATED;VALUE=DATE-TIME:20191025T000000Z
CATEGORIES:Literatura,Vi i gastronomia
LOCATION:Biblioteca Municipal Ferrer i Guàrdia - Hort de la Rectoria. 08328 Alella
ORGANIZER:Ajuntament d'Alella
COMMENT:Preu: Gratuït
DESCRIPTION:Conte/Taller - Xocolata paint
URL:https://www.mynerva.net/ajalella/document.php?id=11796
END:VEVENT
END:VCALENDAR