BEGIN:VCALENDAR
VERSION:2.0
PRODID:-//Plone.org//NONSGML plone.app.event//EN
X-WR-TIMEZONE:Europe/Madrid
BEGIN:VEVENT
SUMMARY:Cicle d'alimentació. Cuinem i mengem entre llibres
DTSTART;TZID=Europe/Madrid;VALUE=DATE-TIME:20191023T193000
DTEND;TZID=Europe/Madrid;VALUE=DATE-TIME:20191023T203000
DTSTAMP;VALUE=DATE-TIME:20260425T155424Z
UID:c9fb2d7cc5e961c9c79613647907c27e
CREATED;VALUE=DATE-TIME:20191023T000000Z
CATEGORIES:Literatura,Vi i gastronomia
LOCATION:Masia de Can Magarola - Avda. Sant Mateu, 2. 08328 Alella
ORGANIZER:Ajuntament d'Alella
COMMENT:Preu: Gratuït
DESCRIPTION:Contes per a adults - Qui menja sopes se les pensa totes!
URL:https://www.mynerva.net/ajalella/document.php?id=11797
END:VEVENT
END:VCALENDAR