BEGIN:VCALENDAR
VERSION:2.0
PRODID:-//Plone.org//NONSGML plone.app.event//EN
X-WR-TIMEZONE:Europe/Madrid
BEGIN:VEVENT
SUMMARY:Cicle d'alimentació. Cuinem i mengem entre llibres
DTSTART;TZID=Europe/Madrid;VALUE=DATE-TIME:20191022T193000
DTEND;TZID=Europe/Madrid;VALUE=DATE-TIME:20191022T203000
DTSTAMP;VALUE=DATE-TIME:20260425T152655Z
UID:1f089e35154bb19c19a8a6e7c32288d0
CREATED;VALUE=DATE-TIME:20191022T000000Z
CATEGORIES:Literatura,Vi i gastronomia
LOCATION:Biblioteca Municipal Ferrer i Guàrdia - Hort de la Rectoria. 08328 Alella
ORGANIZER:Ajuntament d'Alella
COMMENT:Preu: Gratuït
DESCRIPTION:Xerrada - Batch Cooking. Menjar bé tots els dies és possible
URL:https://www.mynerva.net/ajalella/document.php?id=11798
END:VEVENT
END:VCALENDAR