BEGIN:VCALENDAR
VERSION:2.0
PRODID:-//Plone.org//NONSGML plone.app.event//EN
X-WR-TIMEZONE:Europe/Madrid
BEGIN:VEVENT
SUMMARY:Masterclass de booty dance amb perspectiva feminista
DTSTART;TZID=Europe/Madrid;VALUE=DATE-TIME:20191023T190000
DTEND;TZID=Europe/Madrid;VALUE=DATE-TIME:20191023T200000
DTSTAMP;VALUE=DATE-TIME:20260425T160309Z
UID:760d59826cc7fcd45a7586401f15b78e
CREATED;VALUE=DATE-TIME:20191023T000000Z
CATEGORIES:Música,Joves
LOCATION:Antigues Escoles Fabra - Avinguda Ferran Fabra, 1 08328
ORGANIZER:Ajuntament d'Alella
COMMENT:Preu: 10
Durada: 2h - De 19 a 21h
DESCRIPTION:ANUL·LAT
URL:https://www.mynerva.net/ajalella/document.php?id=11819
END:VEVENT
END:VCALENDAR