BEGIN:VCALENDAR
VERSION:2.0
PRODID:-//Plone.org//NONSGML plone.app.event//EN
X-WR-TIMEZONE:Europe/Madrid
BEGIN:VEVENT
SUMMARY:Laika
DTSTART;TZID=Europe/Madrid;VALUE=DATE-TIME:20191102T180000
DTEND;TZID=Europe/Madrid;VALUE=DATE-TIME:20191102T190000
DTSTAMP;VALUE=DATE-TIME:20260425T214048Z
UID:df387d387acf611c705c4d5fb791107d
CREATED;VALUE=DATE-TIME:20191102T000000Z
CATEGORIES:Espectacles,Familiars
LOCATION:Espai d'arts escèniques Casal d'Alella - Carrer de Santa Teresa, 9 08328 Alella
COMMENT:Preu: 4,5-6 euros
Durada: 60 minuts
DESCRIPTION:Xirriquiteulateatre
URL:https://www.mynerva.net/ajalella/document.php?id=11833
END:VEVENT
END:VCALENDAR