BEGIN:VCALENDAR
VERSION:2.0
PRODID:-//Plone.org//NONSGML plone.app.event//EN
X-WR-TIMEZONE:Europe/Madrid
BEGIN:VEVENT
SUMMARY:Black músic per als més menuts
DTSTART;TZID=Europe/Madrid;VALUE=DATE-TIME:20191020T180000
DTEND;TZID=Europe/Madrid;VALUE=DATE-TIME:20191020T190000
DTSTAMP;VALUE=DATE-TIME:20260425T124323Z
UID:e2f5ef00068dbd67c4afa0749d4ab27e
CREATED;VALUE=DATE-TIME:20191020T000000Z
CATEGORIES:Espectacles,Música,Familiars
LOCATION:Espai d'arts escèniques Casal d'Alella - Carrer de Santa Teresa, 9 08328 Alella
COMMENT:Preu: 5-6 euros
Durada: 45 minuts
DESCRIPTION:Companyia Pels més Menuts
URL:https://www.mynerva.net/ajalella/document.php?id=11834
END:VEVENT
END:VCALENDAR