BEGIN:VCALENDAR
VERSION:2.0
PRODID:-//Plone.org//NONSGML plone.app.event//EN
X-WR-TIMEZONE:Europe/Madrid
BEGIN:VEVENT
SUMMARY:Immortal
DTSTART;TZID=Europe/Madrid;VALUE=DATE-TIME:20191109T190000
DTEND;TZID=Europe/Madrid;VALUE=DATE-TIME:20191109T200000
DTSTAMP;VALUE=DATE-TIME:20260425T122907Z
UID:ac2eb25bc35226050d75c82a3d63ec09
CREATED;VALUE=DATE-TIME:20191109T000000Z
CATEGORIES:Espectacles
LOCATION:Espai d'arts escèniques Casal d'Alella - Carrer de Santa Teresa, 9 08328 Alella
COMMENT:Preu: 9-12 euros
Durada: 65 minuts
DESCRIPTION:Bruno Oro
URL:https://www.mynerva.net/ajalella/document.php?id=11835
END:VEVENT
END:VCALENDAR