BEGIN:VCALENDAR
VERSION:2.0
PRODID:-//Plone.org//NONSGML plone.app.event//EN
X-WR-TIMEZONE:Europe/Madrid
BEGIN:VEVENT
SUMMARY:Julieta i Romeu
DTSTART;TZID=Europe/Madrid;VALUE=DATE-TIME:20191019T193000
DTEND;TZID=Europe/Madrid;VALUE=DATE-TIME:20191019T203000
DTSTAMP;VALUE=DATE-TIME:20260425T122744Z
UID:2b2437f6f2c9eea450dcf6328ebdd6a9
CREATED;VALUE=DATE-TIME:20191019T000000Z
CATEGORIES:Espectacles
LOCATION:Espai d'arts escèniques Casal d'Alella - Carrer de Santa Teresa, 9 08328 Alella
ORGANIZER:Institut d'Alella amb la col·laboració de l'Ajuntament
COMMENT:Preu: gratuït
Durada: 120 minuts (amb descans)
DESCRIPTION:Companyia de teatre de l'Institut d'Alella
URL:https://www.mynerva.net/ajalella/document.php?id=11845
END:VEVENT
END:VCALENDAR