BEGIN:VCALENDAR
VERSION:2.0
PRODID:-//Plone.org//NONSGML plone.app.event//EN
X-WR-TIMEZONE:Europe/Madrid
BEGIN:VEVENT
SUMMARY:Nit de la Pansa Blanca. Cinema i vi
DTSTART;TZID=Europe/Madrid;VALUE=DATE-TIME:20191019T220000
DTEND;TZID=Europe/Madrid;VALUE=DATE-TIME:20191019T230000
DTSTAMP;VALUE=DATE-TIME:20260425T135829Z
UID:d3b6907844554522324d8c42cd849bac
CREATED;VALUE=DATE-TIME:20191019T000000Z
CATEGORIES:Cinema,Vi i gastronomia
LOCATION:Espai d'arts escèniques Casal d'Alella - Carrer de Santa Teresa, 9 08328 Alella
ORGANIZER:Ajuntament d'Alella
COMMENT:Preu: Gratuït
DESCRIPTION:AJORNAT FINS AL 30 DE NOVEMBRE
URL:https://www.mynerva.net/ajalella/document.php?id=11852
END:VEVENT
END:VCALENDAR