BEGIN:VCALENDAR
VERSION:2.0
PRODID:-//Plone.org//NONSGML plone.app.event//EN
X-WR-TIMEZONE:Europe/Madrid
BEGIN:VEVENT
SUMMARY:Taller formatiu de seguretat a la llar
DTSTART;TZID=Europe/Madrid;VALUE=DATE-TIME:20191022T190000
DTEND;TZID=Europe/Madrid;VALUE=DATE-TIME:20191022T200000
DTSTAMP;VALUE=DATE-TIME:20260425T152747Z
UID:a002602131193bf164431b538b8b4bdc
CREATED;VALUE=DATE-TIME:20191022T000000Z
CATEGORIES:Cursos
LOCATION:Espai d'arts escèniques Casal d'Alella - Carrer de Santa Teresa, 9 08328 Alella
ORGANIZER:Ajuntament d'Alella
COMMENT:Durada: De 19 a 21h
URL:https://www.mynerva.net/ajalella/document.php?id=11882
END:VEVENT
END:VCALENDAR