BEGIN:VCALENDAR
VERSION:2.0
PRODID:-//Plone.org//NONSGML plone.app.event//EN
X-WR-TIMEZONE:Europe/Madrid
BEGIN:VEVENT
SUMMARY:Taller formatiu de seguretat a la llar
DTSTART;TZID=Europe/Madrid;VALUE=DATE-TIME:20191023T193000
DTEND;TZID=Europe/Madrid;VALUE=DATE-TIME:20191023T203000
DTSTAMP;VALUE=DATE-TIME:20260425T160048Z
UID:84c2e8b91a9171a0acf251389a700e1a
CREATED;VALUE=DATE-TIME:20191023T000000Z
CATEGORIES:Cursos
LOCATION:Espai d'arts escèniques Casal d'Alella - Carrer de Santa Teresa, 9 08328 Alella
ORGANIZER:Ajuntament d'Alella
COMMENT:Durada: De 19.30 a 21.30h
URL:https://www.mynerva.net/ajalella/document.php?id=11883
END:VEVENT
END:VCALENDAR