BEGIN:VCALENDAR
VERSION:2.0
PRODID:-//Plone.org//NONSGML plone.app.event//EN
X-WR-TIMEZONE:Europe/Madrid
BEGIN:VEVENT
SUMMARY:Tast de formatges guanyadors del concurs de La Seu
DTSTART;TZID=Europe/Madrid;VALUE=DATE-TIME:20191114T190000
DTEND;TZID=Europe/Madrid;VALUE=DATE-TIME:20191114T200000
DTSTAMP;VALUE=DATE-TIME:20260425T134903Z
UID:e1e2bb113b219cf4bb3a06fc27c1c407
CREATED;VALUE=DATE-TIME:20191114T000000Z
CATEGORIES:Vi i gastronomia,Tast de vins i most
LOCATION:Centre Cultural de Can Lleonart - Plaça dels Germans Lleonart, 1 08328 Alella
ORGANIZER:Ajuntament d'Alella
COMMENT:Preu: 19 euros
URL:https://www.mynerva.net/ajalella/document.php?id=11890
END:VEVENT
END:VCALENDAR