BEGIN:VCALENDAR
VERSION:2.0
PRODID:-//Plone.org//NONSGML plone.app.event//EN
X-WR-TIMEZONE:Europe/Madrid
BEGIN:VEVENT
SUMMARY:Per un jardí sostenible: plantes i arbres
DTSTART;TZID=Europe/Madrid;VALUE=DATE-TIME:20191022T170000
DTEND;TZID=Europe/Madrid;VALUE=DATE-TIME:20191022T180000
DTSTAMP;VALUE=DATE-TIME:20260425T153118Z
UID:ab2e4fac756da49ca392cb8cf788c9ba
CREATED;VALUE=DATE-TIME:20191022T000000Z
CATEGORIES:Cursos
LOCATION:Centre Cultural de Can Lleonart - Plaça dels Germans Lleonart, 1 08328 Alella
ORGANIZER:Ajuntament d'Alella
COMMENT:Preu: 10 euros
Durada: De 17 a 18.30h
URL:https://www.mynerva.net/ajalella/document.php?id=11893
END:VEVENT
END:VCALENDAR