BEGIN:VCALENDAR
VERSION:2.0
PRODID:-//Plone.org//NONSGML plone.app.event//EN
X-WR-TIMEZONE:Europe/Madrid
BEGIN:VEVENT
SUMMARY:Nit de la Pansa Blanca. Tast: El meu recorregut i experiència amb aquesta varietat de raïm
DTSTART;TZID=Europe/Madrid;VALUE=DATE-TIME:20191104T190000
DTEND;TZID=Europe/Madrid;VALUE=DATE-TIME:20191104T200000
DTSTAMP;VALUE=DATE-TIME:20260425T055824Z
UID:f7178d9d540d5b076ec125b79db7bffc
CREATED;VALUE=DATE-TIME:20191104T000000Z
CATEGORIES:Vi i gastronomia,Tast de vins i most
LOCATION:Can Manyé. Espai d'art i creació - Riera Coma Fosca 42. 08328 Alella
ORGANIZER:Ajuntament d'Alella
COMMENT:Preu: 15 euros
Durada: 1h 30 aprox
URL:https://www.mynerva.net/ajalella/document.php?id=11904
END:VEVENT
END:VCALENDAR