BEGIN:VCALENDAR
VERSION:2.0
PRODID:-//Plone.org//NONSGML plone.app.event//EN
X-WR-TIMEZONE:Europe/Madrid
BEGIN:VEVENT
SUMMARY:25N. Tertúlia. Feminisme en clau de vinyeta
DTSTART;TZID=Europe/Madrid;VALUE=DATE-TIME:20191114T190000
DTEND;TZID=Europe/Madrid;VALUE=DATE-TIME:20191114T200000
DTSTAMP;VALUE=DATE-TIME:20260425T134836Z
UID:4aee35786ff99f263c27a3e1abe137fc
CREATED;VALUE=DATE-TIME:20191114T000000Z
CATEGORIES:Literatura,Tertúlies,Jornades,Joves
LOCATION:Centre Cultural de Can Lleonart - Plaça dels Germans Lleonart, 1 08328 Alella
DESCRIPTION:Jornades per a eliminació de la violència envers les dones
URL:https://www.mynerva.net/ajalella/document.php?id=11912
END:VEVENT
END:VCALENDAR