BEGIN:VCALENDAR
VERSION:2.0
PRODID:-//Plone.org//NONSGML plone.app.event//EN
X-WR-TIMEZONE:Europe/Madrid
BEGIN:VEVENT
SUMMARY:Reparatruck
DTSTART;TZID=Europe/Madrid;VALUE=DATE-TIME:20191115T100000
DTEND;TZID=Europe/Madrid;VALUE=DATE-TIME:20191115T110000
DTSTAMP;VALUE=DATE-TIME:20260425T135032Z
UID:31e00809e48ef118abb2d7ddaa828ba3
CREATED;VALUE=DATE-TIME:20191115T000000Z
CATEGORIES:Cursos
LOCATION:Plaça de l'Ajuntament - Plaça de l'Ajuntament, s/n. 08328 Alella
ORGANIZER:Ajuntament d'Alella
COMMENT:Preu: Gratuït
Durada: De 10 a 13h
DESCRIPTION:Servei mòbil d'autoreparació
URL:https://www.mynerva.net/ajalella/document.php?id=11914
END:VEVENT
END:VCALENDAR