BEGIN:VCALENDAR
VERSION:2.0
PRODID:-//Plone.org//NONSGML plone.app.event//EN
X-WR-TIMEZONE:Europe/Madrid
BEGIN:VEVENT
SUMMARY:Lliurament de bidonets d'oli de cuina usat
DTSTART;TZID=Europe/Madrid;VALUE=DATE-TIME:20191115T090000
DTEND;TZID=Europe/Madrid;VALUE=DATE-TIME:20191115T100000
DTSTAMP;VALUE=DATE-TIME:20260425T151724Z
UID:bea9e16996e264f51d0d75dc97acbf6f
CREATED;VALUE=DATE-TIME:20191115T000000Z
LOCATION:Parada instal·lada a la rambla d'Àngel Guimerà, al costat de l'entrada al pàrquing de l'Hort de la Rectoria.
ORGANIZER:Ajuntament d'Alella
COMMENT:Preu: Gratuït
Durada: de 9h a 13h.
URL:https://www.mynerva.net/ajalella/document.php?id=11916
END:VEVENT
END:VCALENDAR